BEGIN:VCALENDAR
VERSION:2.0
PRODID:-//Haliburton Trail Riders - ECPv6.15.11//NONSGML v1.0//EN
CALSCALE:GREGORIAN
METHOD:PUBLISH
X-ORIGINAL-URL:https://haliburtontrailriders.ca
X-WR-CALDESC:Events for Haliburton Trail Riders
REFRESH-INTERVAL;VALUE=DURATION:PT1H
X-Robots-Tag:noindex
X-PUBLISHED-TTL:PT1H
BEGIN:VTIMEZONE
TZID:America/Toronto
BEGIN:DAYLIGHT
TZOFFSETFROM:-0500
TZOFFSETTO:-0400
TZNAME:EDT
DTSTART:20240310T070000
END:DAYLIGHT
BEGIN:STANDARD
TZOFFSETFROM:-0400
TZOFFSETTO:-0500
TZNAME:EST
DTSTART:20241103T060000
END:STANDARD
BEGIN:DAYLIGHT
TZOFFSETFROM:-0500
TZOFFSETTO:-0400
TZNAME:EDT
DTSTART:20250309T070000
END:DAYLIGHT
BEGIN:STANDARD
TZOFFSETFROM:-0400
TZOFFSETTO:-0500
TZNAME:EST
DTSTART:20251102T060000
END:STANDARD
BEGIN:DAYLIGHT
TZOFFSETFROM:-0500
TZOFFSETTO:-0400
TZNAME:EDT
DTSTART:20260308T070000
END:DAYLIGHT
BEGIN:STANDARD
TZOFFSETFROM:-0400
TZOFFSETTO:-0500
TZNAME:EST
DTSTART:20261101T060000
END:STANDARD
END:VTIMEZONE
BEGIN:VEVENT
DTSTART;VALUE=DATE:20250713
DTEND;VALUE=DATE:20250714
DTSTAMP:20260421T073341
CREATED:20250317T001822Z
LAST-MODIFIED:20250622T182856Z
UID:2141-1752364800-1752451199@haliburtontrailriders.ca
SUMMARY:Soggy Boot Trail Ride
DESCRIPTION:Register Here: https://www.zeffy.com/en-CA/ticketing/soggy-boot-trail-ride
URL:https://haliburtontrailriders.ca/events/soggy-boot-trail-ride/
LOCATION:ON
ORGANIZER;CN="Haliburton Trail Riders":MAILTO:haliburtontrailriders@gmail.com
END:VEVENT
BEGIN:VEVENT
DTSTART;VALUE=DATE:20250821
DTEND;VALUE=DATE:20250825
DTSTAMP:20260421T073341
CREATED:20250317T002252Z
LAST-MODIFIED:20250701T124358Z
UID:2145-1755734400-1756079999@haliburtontrailriders.ca
SUMMARY:Ladies Moto Mingle
DESCRIPTION:Details to come
URL:https://haliburtontrailriders.ca/events/ladies-moto-mingle/
LOCATION:ON
ORGANIZER;CN="Haliburton Trail Riders":MAILTO:haliburtontrailriders@gmail.com
END:VEVENT
END:VCALENDAR