BEGIN:VCALENDAR
VERSION:2.0
PRODID:-//Haliburton Trail Riders - ECPv6.15.11//NONSGML v1.0//EN
CALSCALE:GREGORIAN
METHOD:PUBLISH
X-WR-CALNAME:Haliburton Trail Riders
X-ORIGINAL-URL:https://haliburtontrailriders.ca
X-WR-CALDESC:Events for Haliburton Trail Riders
REFRESH-INTERVAL;VALUE=DURATION:PT1H
X-Robots-Tag:noindex
X-PUBLISHED-TTL:PT1H
BEGIN:VTIMEZONE
TZID:America/Toronto
BEGIN:DAYLIGHT
TZOFFSETFROM:-0500
TZOFFSETTO:-0400
TZNAME:EDT
DTSTART:20210314T070000
END:DAYLIGHT
BEGIN:STANDARD
TZOFFSETFROM:-0400
TZOFFSETTO:-0500
TZNAME:EST
DTSTART:20211107T060000
END:STANDARD
BEGIN:DAYLIGHT
TZOFFSETFROM:-0500
TZOFFSETTO:-0400
TZNAME:EDT
DTSTART:20220313T070000
END:DAYLIGHT
BEGIN:STANDARD
TZOFFSETFROM:-0400
TZOFFSETTO:-0500
TZNAME:EST
DTSTART:20221106T060000
END:STANDARD
BEGIN:DAYLIGHT
TZOFFSETFROM:-0500
TZOFFSETTO:-0400
TZNAME:EDT
DTSTART:20230312T070000
END:DAYLIGHT
BEGIN:STANDARD
TZOFFSETFROM:-0400
TZOFFSETTO:-0500
TZNAME:EST
DTSTART:20231105T060000
END:STANDARD
BEGIN:DAYLIGHT
TZOFFSETFROM:-0500
TZOFFSETTO:-0400
TZNAME:EDT
DTSTART:20240310T070000
END:DAYLIGHT
BEGIN:STANDARD
TZOFFSETFROM:-0400
TZOFFSETTO:-0500
TZNAME:EST
DTSTART:20241103T060000
END:STANDARD
BEGIN:DAYLIGHT
TZOFFSETFROM:-0500
TZOFFSETTO:-0400
TZNAME:EDT
DTSTART:20250309T070000
END:DAYLIGHT
BEGIN:STANDARD
TZOFFSETFROM:-0400
TZOFFSETTO:-0500
TZNAME:EST
DTSTART:20251102T060000
END:STANDARD
END:VTIMEZONE
BEGIN:VEVENT
DTSTART;TZID=America/Toronto:20240823T080000
DTEND;TZID=America/Toronto:20240826T170000
DTSTAMP:20260421T131928
CREATED:20231124T155020Z
LAST-MODIFIED:20231124T155020Z
UID:2066-1724400000-1724691600@haliburtontrailriders.ca
SUMMARY:Ladies Moto Mingle & Campout with Megs Braap
DESCRIPTION:HTR and Dirt Riding Dames are excited to host the inaugural Ladie’s Moto Mingle & Campout weekend on August 23 – 25\, 2024\, in Gooderham\, Ontario.\nIn addition to 3 days of epic riding\, campfire comradery\, tasty BBQ\, prizes galore and s’mores\, we’re also thrilled to welcome the incomparable Megs Braap who will be offering full day clinics.\nThis event is for ladies of all skill levels and it’s an opportunity to hang out\, ride together\, and socialize in a safe and supportive environment where you’re free to be you and get your moto groove on with like-minded ladies.\nRegistration for both the Moto Mingle and Megs Braap will be opening soon\, so stay tuned for more details\nFor up to date information: https://www.facebook.com/events/683818543845320/
URL:https://haliburtontrailriders.ca/events/ladies-moto-mingle-campout-with-megs-braap/
LOCATION:Mark Butt Property\, 391 Salmon Lake Rd\, galway-cavendish and Harvey\, Ontario\, K0L 1J0\, Canada
END:VEVENT
BEGIN:VEVENT
DTSTART;VALUE=DATE:20240707
DTEND;VALUE=DATE:20240708
DTSTAMP:20260421T131928
CREATED:20231124T154926Z
LAST-MODIFIED:20240629T032834Z
UID:2064-1720310400-1720396799@haliburtontrailriders.ca
SUMMARY:Soggy Boot Trail Ride – HTR
DESCRIPTION:Due to a limited number of volunteers\, we have been unable to properly address some trail damage caused by the recent windstorms. The safety of our riders is our top priority\, and without the necessary manpower to ensure the trails are cleared and properly arrowed\, we cannot proceed with the event as planned this year. \nWe are already looking ahead and planning for next year’s event\, and we will ensure it is better than ever. Your support and enthusiasm mean a lot to us.
URL:https://haliburtontrailriders.ca/events/soggy-boot-trail-ride-htr-3/
LOCATION:ON
END:VEVENT
BEGIN:VEVENT
DTSTART;TZID=America/Toronto:20240525T110000
DTEND;TZID=America/Toronto:20240525T140000
DTSTAMP:20260421T131928
CREATED:20240507T014539Z
LAST-MODIFIED:20240507T015248Z
UID:2076-1716634800-1716645600@haliburtontrailriders.ca
SUMMARY:Somerville Bikes & Burgers
DESCRIPTION:Everyone is welcome! Come meet us at the Somerville parking lot for a food\, music and of course rides!\nWe will have cold drinks\, burgers\, sausages.
URL:https://haliburtontrailriders.ca/events/somerville-bikes-burgers-2/
LOCATION:Somerville Forest\, 4553 Monck Rd\, Norland\, Ontario\, K0M 2L0\, Canada
ORGANIZER;CN="Haliburton Trail Riders":MAILTO:haliburtontrailriders@gmail.com
END:VEVENT
BEGIN:VEVENT
DTSTART;TZID=America/Toronto:20230708T090000
DTEND;TZID=America/Toronto:20230709T170000
DTSTAMP:20260421T131928
CREATED:20230418T004143Z
LAST-MODIFIED:20230623T212906Z
UID:1684-1688806800-1688922000@haliburtontrailriders.ca
SUMMARY:Soggy Boot Trail Ride - HTR
DESCRIPTION:The annual soggy boot returns for another year! \nBack in Gooderham again this year and Mark butt has graciously permitted us to use his property with approximately 30 camping spots (no hookups)\, these will be first booked first served. You can choose camping as an option when purchasing tickets below\, please retain your tickets for entry to the event. \n  \nSaturday will have an optional guided ride followed by live rock band and fireworks in the evening. There will be a mix of trails from a novice route to advanced with a lunch included on the Sunday portion of the ride. Washrooms will also be provided at the camping location for use. Please do come prepared with food\, drink\, fuel & oil for your group and expect a mix of conditions. \n  \nRiders must pre-register for this event. \n  \nSign in at Sunday 7:30AM@ Mark Butts\, riders meeting will be at 9:30AM followed by the start of the event at 10AM.
URL:https://haliburtontrailriders.ca/events/soggy-boot-trail-ride-htr-2/
LOCATION:Mark Butt Property\, 391 Salmon Lake Rd\, galway-cavendish and Harvey\, Ontario\, K0L 1J0\, Canada
ORGANIZER;CN="Haliburton Trail Riders":MAILTO:haliburtontrailriders@gmail.com
END:VEVENT
BEGIN:VEVENT
DTSTART;TZID=America/Toronto:20230527T110000
DTEND;TZID=America/Toronto:20230527T140000
DTSTAMP:20260421T131928
CREATED:20230418T003401Z
LAST-MODIFIED:20230514T141922Z
UID:1682-1685185200-1685196000@haliburtontrailriders.ca
SUMMARY:Somerville Bikes & Burgers
DESCRIPTION:May 27st Sommerville Meet the board from 11AM-2PM\nEveryone is welcome! Come meet us at the Somerville parking lot for a food\, music and of course rides!\n\nWe will have cold drinks\, burgers\, sausages\, and vegetarian/vegan options…maybe treats too.
URL:https://haliburtontrailriders.ca/events/somerville-bikes-burgers/
LOCATION:Somerville Forest\, 4553 Monck Rd\, Norland\, Ontario\, K0M 2L0\, Canada
ORGANIZER;CN="Haliburton Trail Riders":MAILTO:haliburtontrailriders@gmail.com
END:VEVENT
BEGIN:VEVENT
DTSTART;VALUE=DATE:20220710
DTEND;VALUE=DATE:20220711
DTSTAMP:20260421T131928
CREATED:20220407T153045Z
LAST-MODIFIED:20230418T003459Z
UID:1065-1657411200-1657497599@haliburtontrailriders.ca
SUMMARY:Soggy Boot Trail Ride - HTR
DESCRIPTION:The annual soggy boot is back\, and back home in Gooderham! \n  \nthis year HTR is very excited to announce we are running the boot back in Gooderham and Mark butt has graciously permitted us to use his property with approximately 30 camping spots (no hookups)\, these will be first booked first served. You can choose camping as an option when purchasing tickets below\, please retain your tickets for entry to the event. \n  \nThere will be a mix of trails from a novice route to advanced with a lunch included on the Sunday portion of the ride. Washrooms will also be provided at the camping location for use. Please do come prepared with food\, drink\, fuel & oil for your group and expect a mix of conditions. \n  \nLunch will be provided during the ride with a gas stop. For anyone coming up Saturday to camp out we will have a special Loop marked out for an added bonus. \nRiders must pre-register for this event. \n  \nSign in at Sunday 7:30AM@ Mark Butts\, riders meeting will be at 9:30AM followed by the start of the event at 10AM.
URL:https://haliburtontrailriders.ca/events/soggy-boot-trail-ride-htr/
LOCATION:Mark Butt Property\, 391 Salmon Lake Rd\, galway-cavendish and Harvey\, Ontario\, K0L 1J0\, Canada
CATEGORIES:HTRevents
END:VEVENT
BEGIN:VEVENT
DTSTART;TZID=America/Toronto:20220611T100000
DTEND;TZID=America/Toronto:20220611T170000
DTSTAMP:20260421T131928
CREATED:20220407T181701Z
LAST-MODIFIED:20220607T205513Z
UID:1098-1654941600-1654966800@haliburtontrailriders.ca
SUMMARY:POSTPONED - Tory hill ride of skill - HTR
DESCRIPTION:This event is postponed until further notice! \n  \nFamily friendly ride! Meeting in the Toryhill parking lot and leaving by 10AM\, ride to Harcourt gas and coffee and to the Scenic lookout\, then back on the single track. Would be good to bring a lunch as well.
URL:https://haliburtontrailriders.ca/events/tory-hill-ride-of-skill-htr/
LOCATION:Tory Hill\, 18666 ON-118\, Tory Hill\, Ontario\, K0L 2Y0\, Canada
CATEGORIES:HTRevents
END:VEVENT
BEGIN:VEVENT
DTSTART;TZID=America/Toronto:20220521T110000
DTEND;TZID=America/Toronto:20220521T140000
DTSTAMP:20260421T131928
CREATED:20220407T155500Z
LAST-MODIFIED:20220510T214031Z
UID:1077-1653130800-1653141600@haliburtontrailriders.ca
SUMMARY:Somerville Bikes & Burgers - HTR
DESCRIPTION:May 21st Sommerville Meet the board from 11AM-2PM\nCome meet us at the Somerville parking lot for a food\, music and of course rides!\n\nWe will have cold drinks\, burgers\, sausages\, and vegetarian/vegan options…maybe treats too.
URL:https://haliburtontrailriders.ca/events/somerville-bikesandburgers-ride-htr/
LOCATION:Somerville Forest\, 4553 Monck Rd\, Norland\, Ontario\, K0M 2L0\, Canada
CATEGORIES:HTRevents
ORGANIZER;CN="Haliburton Trail Riders":MAILTO:haliburtontrailriders@gmail.com
END:VEVENT
END:VCALENDAR